BEGIN:VCALENDAR
CALSCALE:GREGORIAN
X-WR-TIMEZONE;VALUE=TEXT:Europe/Stockholm
METHOD:PUBLISH
PRODID:-//Apple Computer, Inc//iCal 1.0//EN
X-WR-CALNAME;VALUE=TEXT:Borgviks träffen 2024
X-WR-TIMEZONE;VALUE=TEXT:Europe/Stockholm
VERSION:2.0
BEGIN:VEVENT
SUMMARY:Borgviks träffen 2024
DTSTART:20240510
DTEND:20240510
URL:https://mclouisklubben.se/atlas/calendar/event.php?id=708243
END:VEVENT
END:VCALENDAR
