BEGIN:VCALENDAR
CALSCALE:GREGORIAN
X-WR-TIMEZONE;VALUE=TEXT:Europe/Stockholm
METHOD:PUBLISH
PRODID:-//Apple Computer, Inc//iCal 1.0//EN
X-WR-CALNAME;VALUE=TEXT:Husbil Stockholm 2023 
X-WR-TIMEZONE;VALUE=TEXT:Europe/Stockholm
VERSION:2.0
BEGIN:VEVENT
SUMMARY:Husbil Stockholm 2023 
DTSTART:20230331
DTEND:20230331
URL:https://mclouisklubben.se/atlas/calendar/event.php?id=707612
END:VEVENT
END:VCALENDAR
