BEGIN:VCALENDAR
CALSCALE:GREGORIAN
X-WR-TIMEZONE;VALUE=TEXT:Europe/Stockholm
METHOD:PUBLISH
PRODID:-//Apple Computer, Inc//iCal 1.0//EN
X-WR-CALNAME;VALUE=TEXT:Golf och whiskyträff- 2022
X-WR-TIMEZONE;VALUE=TEXT:Europe/Stockholm
VERSION:2.0
BEGIN:VEVENT
SUMMARY:Golf och whiskyträff- 2022
DTSTART:20220812
DTEND:20220812
URL:https://mclouisklubben.se/atlas/calendar/event.php?id=707545
END:VEVENT
END:VCALENDAR
