BEGIN:VCALENDAR
CALSCALE:GREGORIAN
X-WR-TIMEZONE;VALUE=TEXT:Europe/Stockholm
METHOD:PUBLISH
PRODID:-//Apple Computer, Inc//iCal 1.0//EN
X-WR-CALNAME;VALUE=TEXT:Klubbträff med årsmöte i Västervik
X-WR-TIMEZONE;VALUE=TEXT:Europe/Stockholm
VERSION:2.0
BEGIN:VEVENT
SUMMARY:Klubbträff med årsmöte i Västervik
DTSTART:20220603
DTEND:20220603
URL:https://mclouisklubben.se/atlas/calendar/event.php?id=707499
END:VEVENT
END:VCALENDAR
