BEGIN:VCALENDAR
CALSCALE:GREGORIAN
X-WR-TIMEZONE;VALUE=TEXT:Europe/Stockholm
METHOD:PUBLISH
PRODID:-//Apple Computer, Inc//iCal 1.0//EN
X-WR-CALNAME;VALUE=TEXT:Styrelseinternat på Bauergården
X-WR-TIMEZONE;VALUE=TEXT:Europe/Stockholm
VERSION:2.0
BEGIN:VEVENT
SUMMARY:Styrelseinternat på Bauergården
DTSTART:20200904
DTEND:20200904
URL:https://mclouisklubben.se/atlas/calendar/event.php?id=707314
END:VEVENT
END:VCALENDAR
