BEGIN:VCALENDAR
CALSCALE:GREGORIAN
X-WR-TIMEZONE;VALUE=TEXT:Europe/Stockholm
METHOD:PUBLISH
PRODID:-//Apple Computer, Inc//iCal 1.0//EN
X-WR-CALNAME;VALUE=TEXT:Frihet på hjul - Husbil 2020 Stockholm
X-WR-TIMEZONE;VALUE=TEXT:Europe/Stockholm
VERSION:2.0
BEGIN:VEVENT
SUMMARY:Frihet på hjul - Husbil 2020 Stockholm
DTSTART:20200306
DTEND:20200306
URL:https://mclouisklubben.se/atlas/calendar/event.php?id=707248
END:VEVENT
END:VCALENDAR
